Workbook

Sheet Summary
A1: Startup Offer | F1: INPUT CELLS ARE BLUE | I1: Escalation Rates
A2: NAME | B2: Frances Zhu | I2: Academic Faculty Salary | J2: 0.04 | K2: *Summer semester assumes that summer tuition is paid, reduced registration pricing
A3: Position Number | B3: JR102416 | I3: Research Faculty Salary | J3: 0.04 | K3: **Insurance rate assumes fall/spring paid together
A4: Title | B4: Tenure-Track Assistant Professor - Space Robotics | I4: Academic/Research Faculty Fringe | J4: 0.05 | K4: ***Tuition and fee rates based on in-state estimates and have not been approved.
A5: Department | B5: Mechanical Engineering | I5: Graduate Student Salary | J5: 0.01 | K5: Grad Students do not typically receive increases
A6: Anticipated Start Date | B6: January 1,2025 | I6: Tuition | J6: 0.04
A7: Starting Salary | B7: 109000 | I7: Fees | J7: 0.04
I8: Insurance | J8: 0.04
B9: Year 1 | D9: Year 2 | F9: Year 3
B10: FY25 | D10: FY26 | F10: FY27 | Y10: ACTUALS | AA10: ESTIMATE
A11: Faculty Support | B11: PD funds | C11: Other funds | D11: PD funds | E11: Other funds | F11: PD funds | G11: Other funds | J11: FY25 | K11: FY26 | L11: FY27 | Y11: FY23 | Z11: FY24 | AA11: FY25
A12: Summer Days (# of days) | B12: =3*4*5 -> 60 | C12: 0 | D12: =2*4*5 -> 40 | E12: 0 | F12: 20 | G12: 0 | I12: Academic Faculty Fringe Rates | J12: =AA12 -> 0.3171 | K12: =J12*(1+$J$4) -> 0.332955 | L12: =K12*(1+$J$4) -> 0.34960275 | Z12: 0.302 | AA12: =($Z12*(1+$J$4)) -> 0.3171
A13: Salary | B13: =(0.00541*B12*$B$7) -> 35381.4 | C13: =(0.00541*C12*$B$7) -> 0 | D13: =(0.00541*D12*$B$7*(1+$J$2)^1) -> 24531.104 | E13: =(0.00541*E12*$B$7*(1+$J$2)^1) -> 0 | F13: =(0.00541*F12*$B$7*(1+$J$2)^2) -> 12756.174 | G13: =(0.00541*G12*$B$7*(1+$J$2)^2) -> 0
A14: Fringe | B14: =$J$12*B13 -> 11219.442 | C14: =$J$12*C13 -> 0 | D14: =$K$12*D13 -> 8167.7537 | E14: =$K$12*E13 -> 0 | F14: =$L$12*F13 -> 4459.5935 | G14: =$L$12*G13 -> 0 | I14: Research Faculty Fringe Rates | J14: =AA14 -> 0.31815 | K14: =J14*(1+$J$4) -> 0.3340575 | L14: =K14*(1+$J$4) -> 0.35076038 | Z14: 0.303 | AA14: =($Z14*(1+$J$4)) -> 0.31815
A15: Total Faculty Support | B15: =ROUND((B13+B14),0) -> 46601 | C15: =ROUND((C13+C14),0) -> 0 | D15: =ROUND((D13+D14),0) -> 32699 | E15: =ROUND((E13+E14),0) -> 0 | F15: =ROUND((F13+F14),0) -> 17216 | G15: =ROUND((G13+G14),0) -> 0 | I15: (Includes Post-Doctoral Fellows)
A17: Student Support | B17: PD funds | C17: Other funds | D17: PD funds | E17: Other funds | F17: PD funds | G17: Other funds | I17: Graduate Student Costs
A18: Fall (# of students) | B18: 2 | C18: 0 | D18: 2 | E18: 0 | F18: 2 | G18: 0 | I18: Monthly Stipend | J18: =AA18 -> 2693.3367 | K18: =J18*(1+$J$5) -> 2720.2701 | L18: =K18*(1+$J$5) -> 2747.4728 | Y18: 2167 | Z18: 2666.67 | AA18: =Z18*(1+J5) -> 2693.3367
A19: Spring (# of students) | B19: 2 | C19: 0 | D19: 2 | E19: 0 | F19: 2 | G19: 0
A20: Summer (# of students) | B20: 2 | C20: 0 | D20: 2 | E20: 0 | F20: 2 | G20: 0 | I20: Academic Year
A21: Cost per Semester | I21: Tuition | J21: =AA21 -> 19300.32 | K21: =J21*(1+$J$6) -> 20072.333 | L21: =K21*(1+$J$6) -> 20875.226 | Z21: 18558 | AA21: =Z21*(1+$J$6) -> 19300.32
A22: Fall | B22: =B18*$J30 -> 46348.614 | C22: =C18*$J30 -> 0 | D22: =D18*$K30 -> 47556.157 | E22: =E18*$K30 -> 0 | F22: =F18*$L30 -> 48805.539 | G22: =G18*$L30 -> 0 | I22: Fees | J22: =AA22 -> 2907.84 | K22: =J22*(1+$J$7) -> 3024.1536 | L22: =K22*(1+$J$7) -> 3145.1197 | Z22: 2796 | AA22: =Z22*(1+$J$7) -> 2907.84
A23: Spring | B23: =B19*$J31 -> 46348.614 | C23: =C19*$J31 -> 0 | D23: =D19*$K31 -> 47556.157 | E23: =E19*$K31 -> 0 | F23: =F19*$L31 -> 48805.539 | G23: =G19*$L31 -> 0 | I23: Insurance** | J23: =AA23 -> 2593.76 | K23: =J23*(1+$J$8) -> 2697.5104 | L23: =K23*(1+$J$8) -> 2805.4108 | Z23: 2494 | AA23: =Z23*(1+$J$8) -> 2593.76
A24: Summer | B24: =B20*$J32 -> 31262.374 | C24: =C20*$J32 -> 0 | D24: =D20*$K32 -> 31866.468 | E24: =E20*$K32 -> 0 | F24: =F20*$L32 -> 32488.262 | G24: =G20*$L32 -> 0 | I24: Summer*
A25: Total Student Support | B25: =ROUND(SUM(B22:B24),0) -> 123960 | C25: =ROUND(SUM(C22:C24),0) -> 0 | D25: =ROUND(SUM(D22:D24),0) -> 126979 | E25: =ROUND(SUM(E22:E24),0) -> 0 | F25: =ROUND(SUM(F22:F24),0) -> 130099 | G25: =ROUND(SUM(G22:G24),0) -> 0 | I25: Tuition | J25: =AA25 -> 4288.96 | K25: =J25*(1+$J$6) -> 4460.5184 | L25: =K25*(1+$J$6) -> 4638.9391 | Z25: 4124 | AA25: =Z25*(1+$J$6) -> 4288.96
I26: Fees | J26: =AA26 -> 568.88 | K26: =J26*(1+$J$7) -> 591.6352 | L26: =K26*(1+$J$7) -> 615.30061 | Z26: 547 | AA26: =Z26*(1+$J$7) -> 568.88
A27: Other Labor | B27: PD funds | C27: Other funds | D27: PD funds | E27: Other funds | F27: PD funds | G27: Other funds | I27: Insurance ($0 if paid in AY) | J27: =AA27 -> 0 | K27: =J27*(1+$J$8) -> 0 | L27: =K27*(1+$J$8) -> 0 | Z27: 0 | AA27: =Z27*(1+$J$8) -> 0
A28: Postdoc Salary | C28: 0 | D28: 0 | E28: 0 | F28: 0 | G28: 0
A29: Fringe (@ Research Faculty Rate) | B29: =B28*J14 -> 0 | C29: =C28*J14 -> 0 | D29: =D28*K14 -> 0 | E29: =E28*K14 -> 0 | F29: =F28*L14 -> 0 | G29: =G28*L14 -> 0 | I29: TOTAL PER TERM
A30: Total Other Labor | B30: =ROUND(SUM(B28:B29),0) -> 0 | C30: =ROUND(SUM(C28:C29),0) -> 0 | D30: =ROUND(SUM(D28:D29),0) -> 0 | E30: =ROUND(SUM(E28:E29),0) -> 0 | F30: =ROUND(SUM(F28:F29),0) -> 0 | G30: =ROUND(SUM(G28:G29),0) -> 0 | I30: Fall | J30: =(4*J$18)+((J$21+J$22+J$23)*0.5) -> 23174.307 | K30: =(4*K$18)+((K$21+K$22+K$23)*0.5) -> 23778.079 | L30: =(4*L$18)+((L$21+L$22+L$23)*0.5) -> 24402.769 | Z30: =(4*Z$18)+((Z$21+Z$22+Z$23)*0.5) -> 22590.68 | AA30: =(4*AA$18)+((AA$21+AA$22+AA$23)*0.5) -> 23174.307
I31: Spring | J31: =(4*J$18)+((J$21+J$22+J$23)*0.5) -> 23174.307 | K31: =(4*K$18)+((K$21+K$22+K$23)*0.5) -> 23778.079 | L31: =(4*L$18)+((L$21+L$22+L$23)*0.5) -> 24402.769 | Z31: =(4*Z$18)+((Z$21+Z$22+Z$23)*0.5) -> 22590.68 | AA31: =(4*AA$18)+((AA$21+AA$22+AA$23)*0.5) -> 23174.307
A32: Equipment, Travel, Etc. | B32: PD funds | C32: Other funds | D32: PD funds | E32: Other funds | F32: PD funds | G32: Other funds | I32: Summer | J32: =(4*J$18)+(J$25+J$26+J$27) -> 15631.187 | K32: =(4*K$18)+(K$25+K$26+K$27) -> 15933.234 | L32: =(4*L$18)+(L$25+L$26+L$27) -> 16244.131 | Z32: =(4*Z$18)+(Z$25+Z$26+Z$27) -> 15337.68 | AA32: =(4*AA$18)+(AA$25+AA$26+AA$27) -> 15631.187
A33: Equipment (See equipment wksht) | B33: ='Equipment Wksht'!E42 -> 92350 | C33: ='Equipment Wksht'!F42 -> 0 | D33: ='Equipment Wksht'!G42 -> 26950 | E33: ='Equipment Wksht'!H42 -> 0 | F33: ='Equipment Wksht'!I42 -> 3200 | G33: ='Equipment Wksht'!J42 -> 0
A34: Computers | B34: 10000 | C34: 0 | D34: 5000 | E34: 0 | F34: 0 | G34: 0
A35: Software | B35: 5000 | C35: 0 | D35: 5000 | E35: 0 | F35: 5000 | G35: 0 | H35: High Performance Compute Time
A36: Furniture | B36: 10000 | C36: 0 | D36: 0 | E36: 0 | F36: 0 | G36: 0
A37: Travel | B37: =5000*3 -> 15000 | C37: 0 | D37: =5000*3 -> 15000 | E37: 0 | F37: =5000*3 -> 15000 | G37: 0 | H37: accommodating travel from Hawaii for former students
A38: Shared Instrumentation Facility use | B38: 0 | C38: 0 | D38: 0 | E38: 0 | F38: 0 | G38: 0
A39: Misc.* | B39: 0 | C39: 0 | D39: 0 | E39: 0 | F39: 0 | G39: 0
A40: Total Equipment, Travel, Etc. | B40: =ROUND(SUM(B33:B39),0) -> 132350 | C40: =ROUND(SUM(C33:C39),0) -> 0 | D40: =ROUND(SUM(D33:D39),0) -> 51950 | E40: =ROUND(SUM(E33:E39),0) -> 0 | F40: =ROUND(SUM(F33:F39),0) -> 23200 | G40: =ROUND(SUM(G33:G39),0) -> 0
B42: Year 1 | D42: Year 2 | F42: Year 3
...

Sheet Equipment Wksht
A1: Equipment Worksheet | G1: Input cells are BLUE
A2: NAME | B2: =IF(ISBLANK(Summary!B2),"",Summary!B2) -> Frances Zhu
A3: Position Number | B3: =IF(ISBLANK(Summary!B3),"",Summary!B3) -> JR102416
A4: Title | B4: =IF(ISBLANK(Summary!B4),"",Summary!B4) -> Tenure-Track Assistant Professor - Space Robotics
A5: Department | B5: =IF(ISBLANK(Summary!B5),"",Summary!B5) -> Mechanical Engineering
A6: Anticipated Start Date | B6: =IF(ISBLANK(Summary!B6),"",Summary!B6) -> January 1,2025
A7: Starting Salary | B7: =IF(ISBLANK(Summary!B7),"",Summary!B7) -> 109000
E9: Year 1 | G9: Year 2 | I9: Year 3
E10: FY24 | G10: FY25 | I10: FY26
A11: Equipment | B11: Unit Price | C11: Quantity | D11: Extended Total | E11: PD funds | F11: Other funds | G11: PD funds | H11: Other funds | I11: PD funds | J11: Other funds | K11: Location
A12: Motion Capture Cameras | B12: 75000 | C12: 1 | D12: =B12*C12 -> 75000 | E12: 70000 | F12: 0 | G12: 0 | H12: 0 | I12: 0 | J12: 0 | K12: to install in the planetary surface simulator (shared)
A13: 3D Printers | B13: 3000 | C13: 2 | D13: =B13*C13 -> 6000 | E13: 3000 | F13: 0 | G13: 3000 | H13: 0 | I13: 0 | J13: 0 | K13: to go in the RoSE Lab
A14: Soldering Station | B14: 2000 | C14: 2 | D14: =B14*C14 -> 4000 | E14: 2000 | F14: 0 | G14: 2000 | H14: 0 | I14: 0 | J14: 0 | K14: to go in the RoSE Lab
A15: Printed Circuit Board Prototypes | B15: 1000 | C15: 3 | D15: =B15*C15 -> 3000 | E15: 1000 | F15: 0 | G15: 1000 | H15: 0 | I15: 1000 | J15: 0 | K15: to go in the RoSE Lab
A16: Lab Tools | B16: 3000 | C16: 1 | D16: =B16*C16 -> 3000 | E16: 3000 | F16: 0 | G16: 0 | H16: 0 | I16: 0 | J16: 0 | K16: to go in the RoSE Lab
A17: Avionics for Custom Robots (Computers, Batteries, Sensors) | B17: 2000 | C17: 5 | D17: =B17*C17 -> 10000 | E17: 6000 | F17: 0 | G17: 2000 | H17: 0 | I17: 2000 | J17: 0 | K17: to go in the RoSE Lab
A18: Outreach Robots | B18: 200 | C18: 5 | D18: =B18*C18 -> 1000 | E18: 600 | F18: 0 | G18: 200 | H18: 0 | I18: 200 | J18: 0 | K18: shared with robotics institute, maybe clayworks?
A19: Industry Rover from Commercial Partner, like Lunar Outpost | B19: 12000 | C19: 1 | D19: =B19*C19 -> 12000 | F19: 0 | G19: 12000 | H19: 0 | I19: 0 | J19: 0 | K19: to install in the planetary surface simulator (shared)
A20: Quadruped Robots | B20: 5000 | C20: 2 | D20: =B20*C20 -> 10000 | E20: 5000 | F20: 0 | G20: 5000 | H20: 0 | I20: 0 | J20: 0 | K20: shared with robotics institute, maybe clayworks?
A21: Prototyping Materials (Metal, Wood, Plastic Spools) | B21: 3500 | C21: 1 | D21: =B21*C21 -> 3500 | E21: 1750 | F21: 0 | G21: 1750 | H21: 0 | I21: 0 | J21: 0 | K21: to go in the RoSE Lab
D22: =B22*C22 -> 0 | E22: 0 | F22: 0 | G22: 0 | H22: 0 | I22: 0 | J22: 0
D23: =B23*C23 -> 0 | E23: 0 | F23: 0 | G23: 0 | H23: 0 | I23: 0 | J23: 0
D24: =B24*C24 -> 0 | E24: 0 | F24: 0 | G24: 0 | H24: 0 | I24: 0 | J24: 0
D25: =B25*C25 -> 0 | E25: 0 | F25: 0 | G25: 0 | H25: 0 | I25: 0 | J25: 0
D26: =B26*C26 -> 0 | E26: 0 | F26: 0 | G26: 0 | H26: 0 | I26: 0 | J26: 0
D27: =B27*C27 -> 0 | E27: 0 | F27: 0 | G27: 0 | H27: 0 | I27: 0 | J27: 0
D28: =B28*C28 -> 0 | E28: 0 | F28: 0 | G28: 0 | H28: 0 | I28: 0 | J28: 0
D29: =B29*C29 -> 0 | E29: 0 | F29: 0 | G29: 0 | H29: 0 | I29: 0 | J29: 0
D30: =B30*C30 -> 0 | E30: 0 | F30: 0 | G30: 0 | H30: 0 | I30: 0 | J30: 0
D31: =B31*C31 -> 0 | E31: 0 | F31: 0 | G31: 0 | H31: 0 | I31: 0 | J31: 0
D32: =B32*C32 -> 0 | E32: 0 | F32: 0 | G32: 0 | H32: 0 | I32: 0 | J32: 0
D33: =B33*C33 -> 0 | E33: 0 | F33: 0 | G33: 0 | H33: 0 | I33: 0 | J33: 0
... D41: =B41*C41 -> 0 | E41: 0 | F41: 0 | G41: 0 | H41: 0 | I41: 0 | J41: 0
A42: Total | D42: =ROUND(SUM(D12:D41),0) -> 127500 | E42: =ROUND(SUM(E12:E41),0) -> 92350 | F42: =ROUND(SUM(F12:F41),0) -> 0 | G42: =ROUND(SUM(G12:G41),0) -> 26950 | H42: =ROUND(SUM(H12:H41),0) -> 0 | I42: =ROUND(SUM(I12:I41),0) -> 3200 | J42: =ROUND(SUM(J12:J41),0) -> 0
A45: TOTAL PD FUNDS | E45: =E42 -> 92350 | G45: =G42 -> 26950 | I45: =I42 -> 3200
A46: TOTAL OTHER FUNDS | F46: =F42 -> 0 | H46: =H42 -> 0 | J46: =J42 -> 0
A48: COMMENTS
